BEGIN:VCALENDAR
VERSION:2.0
PRODID:-//frcspb.be - ECPv6.15.20//NONSGML v1.0//EN
CALSCALE:GREGORIAN
METHOD:PUBLISH
X-WR-CALNAME:frcspb.be
X-ORIGINAL-URL:https://frcspb.be
X-WR-CALDESC:Évènements pour frcspb.be
REFRESH-INTERVAL;VALUE=DURATION:PT1H
X-Robots-Tag:noindex
X-PUBLISHED-TTL:PT1H
BEGIN:VTIMEZONE
TZID:Europe/Brussels
BEGIN:DAYLIGHT
TZOFFSETFROM:+0100
TZOFFSETTO:+0200
TZNAME:CEST
DTSTART:20240331T010000
END:DAYLIGHT
BEGIN:STANDARD
TZOFFSETFROM:+0200
TZOFFSETTO:+0100
TZNAME:CET
DTSTART:20241027T010000
END:STANDARD
BEGIN:DAYLIGHT
TZOFFSETFROM:+0100
TZOFFSETTO:+0200
TZNAME:CEST
DTSTART:20250330T010000
END:DAYLIGHT
BEGIN:STANDARD
TZOFFSETFROM:+0200
TZOFFSETTO:+0100
TZNAME:CET
DTSTART:20251026T010000
END:STANDARD
BEGIN:DAYLIGHT
TZOFFSETFROM:+0100
TZOFFSETTO:+0200
TZNAME:CEST
DTSTART:20260329T010000
END:DAYLIGHT
BEGIN:STANDARD
TZOFFSETFROM:+0200
TZOFFSETTO:+0100
TZNAME:CET
DTSTART:20261025T010000
END:STANDARD
END:VTIMEZONE
BEGIN:VEVENT
DTSTART;TZID=Europe/Brussels:20250905T170000
DTEND;TZID=Europe/Brussels:20250906T020000
DTSTAMP:20260423T044817
CREATED:20250808T121957Z
LAST-MODIFIED:20250808T121957Z
UID:1533-1757091600-1757124000@frcspb.be
SUMMARY:Zone de secours WAPI: Fire-Afterwork des pompiers de Mouscron
DESCRIPTION:
URL:https://frcspb.be/agenda/zone-de-secours-wapi-fire-afterwork-des-pompiers-de-mouscron/
LOCATION:Mouscron\, Salle "La Grange" - rue de la Vellerie\, Mouscron\, Belgium
END:VEVENT
BEGIN:VEVENT
DTSTART;VALUE=DATE:20250906
DTEND;VALUE=DATE:20250908
DTSTAMP:20260423T044817
CREATED:20250310T131715Z
LAST-MODIFIED:20250310T132056Z
UID:1179-1757116800-1757289599@frcspb.be
SUMMARY:FireFit Championships Europe – Ostrava\, République tchèque
DESCRIPTION:
URL:https://frcspb.be/agenda/firefit-championships-europe-ostrava-republique-tcheque/
LOCATION:Ostrava\, Czech Republic
END:VEVENT
BEGIN:VEVENT
DTSTART;TZID=Europe/Brussels:20250906T210000
DTEND;TZID=Europe/Brussels:20250907T020000
DTSTAMP:20260423T044817
CREATED:20250807T140231Z
LAST-MODIFIED:20250807T140231Z
UID:1511-1757192400-1757210400@frcspb.be
SUMMARY:Amicale des pompiers de Plombières – Montzen: Beachparty
DESCRIPTION:Venez vous amuser lors de la deuxième édition de la Beachparty organisée par l’amicale des pompiers de Plombières.
URL:https://frcspb.be/agenda/amicale-des-pompiers-de-plombieres-montzen-beachparty/
LOCATION:Montzen\, rue de la Poste 46\, Montzen\, Belgium
END:VEVENT
BEGIN:VEVENT
DTSTART;TZID=Europe/Brussels:20250907T090000
DTEND;TZID=Europe/Brussels:20250907T180000
DTSTAMP:20260423T044817
CREATED:20250807T140526Z
LAST-MODIFIED:20250807T140526Z
UID:1513-1757235600-1757268000@frcspb.be
SUMMARY:Zone de secours Dinaphi: Portes-ouvertes des pompiers de Dinant
DESCRIPTION:Venez vivre une journée exceptionnelle lors des portes-ouvertes organisées au poste de secours de Dinant.
URL:https://frcspb.be/agenda/zone-de-secours-dinaphi-portes-ouvertes-des-pompiers-de-dinant/
LOCATION:Dinant\, Place face au Centre Culturel\, Belgium
END:VEVENT
BEGIN:VEVENT
DTSTART;VALUE=DATE:20250912
DTEND;VALUE=DATE:20250915
DTSTAMP:20260423T044817
CREATED:20250310T132632Z
LAST-MODIFIED:20250310T132632Z
UID:1182-1757635200-1757894399@frcspb.be
SUMMARY:Zone de secours Wapi: Bicentenaire des pompiers d'Ath!
DESCRIPTION:200 ans\, ça se fête en grand !\n\n\n\nCette année\, les pompiers de Ath célèbrent 200 ans de courage\, de dévouement et de solidarité au service de la sécurité !\n\n\nPour marquer cet anniversaire historique\, l’ Amicale des pompiers d’Ath et de Lessines ont prévu 3 jours de fête exceptionnels !
URL:https://frcspb.be/agenda/zone-de-secours-wapi-bicentenaire-des-pompiers-dath/
LOCATION:Ath\, Hall du Ceva\, Ath\, Belgium
END:VEVENT
BEGIN:VEVENT
DTSTART;TZID=Europe/Brussels:20250912T080000
DTEND;TZID=Europe/Brussels:20250912T160000
DTSTAMP:20260423T044817
CREATED:20250807T140945Z
LAST-MODIFIED:20250807T140945Z
UID:1515-1757664000-1757692800@frcspb.be
SUMMARY:Conférence Pompier International Francophone – “Les nouveaux défis des pompiers”
DESCRIPTION:Des experts venus du Canada\, de Suisse\, de France\, du Luxembourg et de Belgique\, y partageront leurs expériences et innovations sur les enjeux majeurs d’aujourd’hui :\n Lecture des fumées\n Mousses d’extinction\n Méthode incendie genevoise\n Mentorat dans les services de secours\n Chiens de recherche\n Aide des drones…\n\n\nNe manquez pas cette journée d’échanges et de partages!\n\n\n Tarif : 35 €\n Inclus : accès au colloque + repas de la journée + entrée au bal des pompiers \n Inscription ici: https://www.livecafe.be/agenda/colloque-pompier-international-francopho
URL:https://frcspb.be/agenda/conference-pompier-international-francophone-les-nouveaux-defis-des-pompiers/
LOCATION:Ath\, Hall du Ceva\, Ath\, Belgium
END:VEVENT
BEGIN:VEVENT
DTSTART;TZID=Europe/Brussels:20250913T110000
DTEND;TZID=Europe/Brussels:20250913T180000
DTSTAMP:20260423T044817
CREATED:20250807T141243Z
LAST-MODIFIED:20250807T141243Z
UID:1517-1757761200-1757786400@frcspb.be
SUMMARY:Zone de secours VHP: portes-ouvertes des pompiers de Pepinster
DESCRIPTION:
URL:https://frcspb.be/agenda/zone-de-secours-vhp-portes-ouvertes-des-pompiers-de-pepinster/
LOCATION:Pepinster\, rue Jean Simon 7\, Pepinster\, 4860\, Belgium
END:VEVENT
BEGIN:VEVENT
DTSTART;TZID=Europe/Brussels:20250913T170000
DTEND;TZID=Europe/Brussels:20250913T170000
DTSTAMP:20260423T044817
CREATED:20250808T123229Z
LAST-MODIFIED:20250808T123229Z
UID:1536-1757782800-1757782800@frcspb.be
SUMMARY:Zone de secours Hesbaye: Barbecue des pompier de Hannut
DESCRIPTION:
URL:https://frcspb.be/agenda/zone-de-secours-hesbaye-barbecue-des-pompier-de-hannut/
LOCATION:Hannut\, Rue Joseph Wauters 65\, Hannut\, 4280\, Belgium
END:VEVENT
BEGIN:VEVENT
DTSTART;VALUE=DATE:20250914
DTEND;VALUE=DATE:20250915
DTSTAMP:20260423T044817
CREATED:20250310T132853Z
LAST-MODIFIED:20250310T132853Z
UID:1185-1757808000-1757894399@frcspb.be
SUMMARY:Amicale des pompiers d'Ath et de Lessines: Grande concentration de véhicules et de pompiers
DESCRIPTION:Les pompiers d’Ath fêtent leurs 200 ans! Venez célébrer cet anniversaire exceptionnel les 12\, 13 et 14 septembre 2025. Moment fort du week-end : \nDimanche 14 septembre – Grande concentration de véhicules et de pompiers sur l’Esplanade d’Ath !
URL:https://frcspb.be/agenda/amicale-des-pompiers-dath-et-de-lessines-grande-concentration-de-vehicules-et-de-pompiers/
LOCATION:Ath\, Hall du Ceva\, Ath\, Belgium
END:VEVENT
BEGIN:VEVENT
DTSTART;TZID=Europe/Brussels:20250914T100000
DTEND;TZID=Europe/Brussels:20250914T170000
DTSTAMP:20260423T044817
CREATED:20250807T141512Z
LAST-MODIFIED:20250807T141604Z
UID:1520-1757844000-1757869200@frcspb.be
SUMMARY:Zone de secours Dinaphi: Portes-ouvertes des pompiers de Philippeville
DESCRIPTION:Le 14 septembre 2025\, venez vivre une journée exceptionnelle avec les pompiers de Philippeville!
URL:https://frcspb.be/agenda/zone-de-secours-dinaphi-portes-ouvertes-des-pompiers-de-philippeville/
LOCATION:Philippeville\, rue de la Gendarmerie 30\, Philippeville\, 5600\, Belgium
END:VEVENT
BEGIN:VEVENT
DTSTART;TZID=Europe/Brussels:20250914T100000
DTEND;TZID=Europe/Brussels:20250914T180000
DTSTAMP:20260423T044817
CREATED:20250808T123633Z
LAST-MODIFIED:20250808T123633Z
UID:1538-1757844000-1757872800@frcspb.be
SUMMARY:Zone de secours NAGE: Portes-ouvertes des pompiers de Gembloux
DESCRIPTION:
URL:https://frcspb.be/agenda/zone-de-secours-nage-portes-ouvertes-des-pompiers-de-gembloux/
LOCATION:Gembloux\, rue du Stordoir\, Gembloux\, Belgium
END:VEVENT
BEGIN:VEVENT
DTSTART;TZID=Europe/Brussels:20250914T100000
DTEND;TZID=Europe/Brussels:20250914T220000
DTSTAMP:20260423T044817
CREATED:20250808T134601Z
LAST-MODIFIED:20250808T134601Z
UID:1545-1757844000-1757887200@frcspb.be
SUMMARY:Zone de secours Hesbaye: Portes-ouvertes pompiers/police - Hannut
DESCRIPTION:
URL:https://frcspb.be/agenda/zone-de-secours-hesbaye-portes-ouvertes-pompiers-police-hannut/
LOCATION:Hannut\, Rue Joseph Wauters 65\, Hannut\, 4280\, Belgium
END:VEVENT
BEGIN:VEVENT
DTSTART;VALUE=DATE:20250920
DTEND;VALUE=DATE:20250922
DTSTAMP:20260423T044817
CREATED:20250310T133124Z
LAST-MODIFIED:20250310T133124Z
UID:1187-1758326400-1758499199@frcspb.be
SUMMARY:FireFit Championships Europe – Landshut\, Allemagne
DESCRIPTION:
URL:https://frcspb.be/agenda/firefit-championships-europe-landshut-allemagne/
LOCATION:Landshut\, Germany
END:VEVENT
BEGIN:VEVENT
DTSTART;TZID=Europe/Brussels:20250920T080000
DTEND;TZID=Europe/Brussels:20250920T170000
DTSTAMP:20260423T044817
CREATED:20250808T124144Z
LAST-MODIFIED:20250808T124144Z
UID:1540-1758355200-1758387600@frcspb.be
SUMMARY:Zone de secours 5 W.A.L. : Portes ouvertes des pompiers d'Aywaille
DESCRIPTION:
URL:https://frcspb.be/agenda/zone-de-secours-5-w-a-l-portes-ouvertes-des-pompiers-daywaille/
LOCATION:Aywaille\, Playe 50\, Aywaille\, 4920\, Belgium
END:VEVENT
BEGIN:VEVENT
DTSTART;TZID=Europe/Brussels:20250927T080000
DTEND;TZID=Europe/Brussels:20250927T170000
DTSTAMP:20260423T044817
CREATED:20250310T133426Z
LAST-MODIFIED:20250310T133426Z
UID:1190-1758960000-1758992400@frcspb.be
SUMMARY:Zone de secours VHP: Jogging-Trail des pompiers de Theux
DESCRIPTION:
URL:https://frcspb.be/agenda/zone-de-secours-vhp-jogging-trail-des-pompiers-de-theux/
END:VEVENT
BEGIN:VEVENT
DTSTART;VALUE=DATE:20250928
DTEND;VALUE=DATE:20250929
DTSTAMP:20260423T044817
CREATED:20250808T120421Z
LAST-MODIFIED:20250808T120730Z
UID:1522-1759017600-1759103999@frcspb.be
SUMMARY:Zone de secours Brabant-Wallon: portes-ouvertes des pompiers de Braine l’Alleud
DESCRIPTION:
URL:https://frcspb.be/agenda/zone-de-secours-brabant-wallon-portes-ouvertes-des-pompiers-de-braine-lalleud/
END:VEVENT
END:VCALENDAR