BEGIN:VCALENDAR
VERSION:2.0
PRODID:-//frcspb.be - ECPv6.15.20//NONSGML v1.0//EN
CALSCALE:GREGORIAN
METHOD:PUBLISH
X-ORIGINAL-URL:https://frcspb.be
X-WR-CALDESC:Évènements pour frcspb.be
REFRESH-INTERVAL;VALUE=DURATION:PT1H
X-Robots-Tag:noindex
X-PUBLISHED-TTL:PT1H
BEGIN:VTIMEZONE
TZID:Europe/Brussels
BEGIN:DAYLIGHT
TZOFFSETFROM:+0100
TZOFFSETTO:+0200
TZNAME:CEST
DTSTART:20240331T010000
END:DAYLIGHT
BEGIN:STANDARD
TZOFFSETFROM:+0200
TZOFFSETTO:+0100
TZNAME:CET
DTSTART:20241027T010000
END:STANDARD
BEGIN:DAYLIGHT
TZOFFSETFROM:+0100
TZOFFSETTO:+0200
TZNAME:CEST
DTSTART:20250330T010000
END:DAYLIGHT
BEGIN:STANDARD
TZOFFSETFROM:+0200
TZOFFSETTO:+0100
TZNAME:CET
DTSTART:20251026T010000
END:STANDARD
BEGIN:DAYLIGHT
TZOFFSETFROM:+0100
TZOFFSETTO:+0200
TZNAME:CEST
DTSTART:20260329T010000
END:DAYLIGHT
BEGIN:STANDARD
TZOFFSETFROM:+0200
TZOFFSETTO:+0100
TZNAME:CET
DTSTART:20261025T010000
END:STANDARD
END:VTIMEZONE
BEGIN:VEVENT
DTSTART;TZID=Europe/Brussels:20250817T100000
DTEND;TZID=Europe/Brussels:20250817T180000
DTSTAMP:20260423T063730
CREATED:20250808T132454Z
LAST-MODIFIED:20250808T132454Z
UID:1543-1755424800-1755453600@frcspb.be
SUMMARY:Liège Zone 2: Les pompiers au Solidaris Day
DESCRIPTION:Le métier de pompier vous intéresse ?\nVenez rencontrer les pompiers de Liège Zone 2 lors du Solidaris Day !\nIls seront présents en caserne pour répondre à toutes vos questions sur : \n\nle métier de pompier\nles formations\nles examens à réussir
URL:https://frcspb.be/agenda/liege-zone-2-les-pompiers-au-solidaris-day/
LOCATION:Flémalle\, Grand'Route 269\, Flémalle\, 4400\, Belgium
END:VEVENT
BEGIN:VEVENT
DTSTART;VALUE=DATE:20250821
DTEND;VALUE=DATE:20250825
DTSTAMP:20260423T063730
CREATED:20250310T131041Z
LAST-MODIFIED:20250310T131041Z
UID:1176-1755734400-1756079999@frcspb.be
SUMMARY:FireFit Championships Europe – Championnats d'Europe – Szolnok\, Hongrie
DESCRIPTION:
URL:https://frcspb.be/agenda/firefit-championships-europe-championnats-deurope-szolnok-hongrie/
LOCATION:Szolnok
END:VEVENT
BEGIN:VEVENT
DTSTART;TZID=Europe/Brussels:20250831T100000
DTEND;TZID=Europe/Brussels:20250831T180000
DTSTAMP:20260423T063730
CREATED:20250808T121253Z
LAST-MODIFIED:20250808T121253Z
UID:1530-1756634400-1756663200@frcspb.be
SUMMARY:Zone de secours Luxembourg: Portes-ouvertes des pompiers d’Aubange
DESCRIPTION:Curieux de découvrir l’envers du décor ?Venez vivre une journée exceptionnelle lors des portes-ouvertes organisées par les pompiers d’Aubange!
URL:https://frcspb.be/agenda/zone-de-secours-luxembourg-portes-ouvertes-des-pompiers-daubange/
LOCATION:Athus\, Rue des Métallurgistes\, 9\, Athus\, 6791\, Belgium
END:VEVENT
END:VCALENDAR