BEGIN:VCALENDAR
VERSION:2.0
PRODID:-//frcspb.be - ECPv6.15.20//NONSGML v1.0//EN
CALSCALE:GREGORIAN
METHOD:PUBLISH
X-WR-CALNAME:frcspb.be
X-ORIGINAL-URL:https://frcspb.be
X-WR-CALDESC:Évènements pour frcspb.be
REFRESH-INTERVAL;VALUE=DURATION:PT1H
X-Robots-Tag:noindex
X-PUBLISHED-TTL:PT1H
BEGIN:VTIMEZONE
TZID:Europe/Brussels
BEGIN:DAYLIGHT
TZOFFSETFROM:+0100
TZOFFSETTO:+0200
TZNAME:CEST
DTSTART:20240331T010000
END:DAYLIGHT
BEGIN:STANDARD
TZOFFSETFROM:+0200
TZOFFSETTO:+0100
TZNAME:CET
DTSTART:20241027T010000
END:STANDARD
BEGIN:DAYLIGHT
TZOFFSETFROM:+0100
TZOFFSETTO:+0200
TZNAME:CEST
DTSTART:20250330T010000
END:DAYLIGHT
BEGIN:STANDARD
TZOFFSETFROM:+0200
TZOFFSETTO:+0100
TZNAME:CET
DTSTART:20251026T010000
END:STANDARD
BEGIN:DAYLIGHT
TZOFFSETFROM:+0100
TZOFFSETTO:+0200
TZNAME:CEST
DTSTART:20260329T010000
END:DAYLIGHT
BEGIN:STANDARD
TZOFFSETFROM:+0200
TZOFFSETTO:+0100
TZNAME:CET
DTSTART:20261025T010000
END:STANDARD
END:VTIMEZONE
BEGIN:VEVENT
DTSTART;TZID=Europe/Brussels:20250412T190000
DTEND;TZID=Europe/Brussels:20250413T010000
DTSTAMP:20260423T125320
CREATED:20250305T150504Z
LAST-MODIFIED:20250305T150525Z
UID:1137-1744484400-1744506000@frcspb.be
SUMMARY:Zone de secours VHP: blind test et soirée de l'amicale des pompiers de Spa
DESCRIPTION:Le 12 avril 2025\, l’Amicale des Pompiers de Spa organise un blind test suivi d’une soirée années 80-90-2000\n\n\n\nLa soirée sera animée par DJ Antoine Simar.\n\n\n\nTarifs par personne :\nPré-vente : 8€\nSur place : 10€ (incluant Blind Test + Soirée)\n\n\n\n Réservations uniquement en indiquant nom et prénom\, le nombre de participants et le nom de votre équipe  :\n Par SMS au 0455/11.81.58\n Par mail : pompier.spa@gmail.com\n En message privé sur cette page
URL:https://frcspb.be/agenda/zone-de-secours-vhp-blind-test-et-soiree-de-lamicale-des-pompiers-de-spa/
LOCATION:Tiège\, Belgium
END:VEVENT
BEGIN:VEVENT
DTSTART;VALUE=DATE:20250413
DTEND;VALUE=DATE:20250414
DTSTAMP:20260423T125320
CREATED:20250305T150655Z
LAST-MODIFIED:20250305T150655Z
UID:1140-1744502400-1744588799@frcspb.be
SUMMARY:Amicale des pompiers de Flémalle: Chasse aux œufs
DESCRIPTION:1ère Chasse aux Œufs à Flémalle ! \n\n\n\nL’Association des Commerçants de Flémalle Centre et l’ Amicale des Pompiers de Flémalle  vous invitent à leur grande chasse aux œufs !\n\n\n\n Quand ? Dimanche 13 avril dès 11h\n Où ? Parc du Château communal de Flémalle\n\nRéservation souhaitée: 04/267.60.16 ou ADL@flemalle.be\n\n\n\nAu programme :\n\n\nChasse aux œufs pour les enfants\nChâteaux gonflables\nJeux en bois\nAnimations avec les Pompiers de Flémalle\nBar & petite restauration\n\n\n\nLes bénéfices seront reversés au Télévie
URL:https://frcspb.be/agenda/amicale-des-pompiers-de-flemalle-chasse-aux-oeufs/
LOCATION:Flémalle\, Grand'Route 269\, Flémalle\, 4400\, Belgium
END:VEVENT
BEGIN:VEVENT
DTSTART;TZID=Europe/Brussels:20250427T080000
DTEND;TZID=Europe/Brussels:20250427T140000
DTSTAMP:20260423T125320
CREATED:20250305T150949Z
LAST-MODIFIED:20250305T150949Z
UID:1143-1745740800-1745762400@frcspb.be
SUMMARY:Zone de secours DINAPHI: Marche ADEPS de l’amicale des pompiers de Philippeville
DESCRIPTION:Envie de prendre un bon bol d’air ? Rejoignez les pompiers de Philippeville pour leur première marche ADEPS! \nQue vous soyez amateur de balades tranquilles ou adepte de longues randonnées\, il y en a pour tous les niveaux ! Venez découvrir de superbes paysages\, profiter d’un moment convivial et faire le plein d’énergie en pleine nature. \n📅 Date: le 27 avril \n🚶‍♂️Parcours de 5\, 10\, 15 et 20 km
URL:https://frcspb.be/agenda/zone-de-secours-dinaphi-marche-adeps-de-lamicale-des-pompiers-de-philippeville/
LOCATION:Philippeville\, rue de la Gendarmerie 30\, Philippeville\, 5600\, Belgium
END:VEVENT
END:VCALENDAR