BEGIN:VCALENDAR
VERSION:2.0
PRODID:-//frcspb.be - ECPv6.15.20//NONSGML v1.0//EN
CALSCALE:GREGORIAN
METHOD:PUBLISH
X-WR-CALNAME:frcspb.be
X-ORIGINAL-URL:https://frcspb.be
X-WR-CALDESC:Évènements pour frcspb.be
REFRESH-INTERVAL;VALUE=DURATION:PT1H
X-Robots-Tag:noindex
X-PUBLISHED-TTL:PT1H
BEGIN:VTIMEZONE
TZID:UTC
BEGIN:STANDARD
TZOFFSETFROM:+0000
TZOFFSETTO:+0000
TZNAME:UTC
DTSTART:20240101T000000
END:STANDARD
END:VTIMEZONE
BEGIN:VEVENT
DTSTART;TZID=UTC:20250223T080000
DTEND;TZID=UTC:20250223T180000
DTSTAMP:20260423T160736
CREATED:20250124T123401Z
LAST-MODIFIED:20250124T125831Z
UID:479-1740297600-1740333600@frcspb.be
SUMMARY:Zone de secours Hainaut Centre: Marche ADEPS de l’amicale des pompiers de Braine le Comte
DESCRIPTION:🥾 Sortez vos chaussures de marche\, les pompiers vous attendent!\n\n\n \n\n\nVenez en famille\, entre amis ou en solo à la marche ADEPS organisée par l’ ASBL amicale des sapeurs pompiers de Braine le Comte.\n\n\n \n\n\nBookez déjà votre agenda pour profiter d’un chouette moment en plein air!\n\n\n \n\n\n📅 Quand ? Dimanche 23 février 2025\n\n\n📍 Où ? rue Jule de Keyn – 7090 Ronquières\n\n\nParcours de: 5 – 10 et 20 km\nAccès PMR\n\nSur place: bar et petite restauration pour reprendre des forces!\n\n \n\n\n➡️ Toutes les infos sur l’événement ici: https://www.facebook.com/events/1084546440117433/
URL:https://frcspb.be/agenda/zone-de-secours-hainaut-centre-marche-adeps-de-lamicale-des-pompiers-de-braine-le-comte/
LOCATION:Ronquières\, rue Jule de Keyn (à l'ancienne Gare)\, Ronquières\, 7090\, Belgium
END:VEVENT
END:VCALENDAR