BEGIN:VCALENDAR
VERSION:2.0
PRODID:-//frcspb.be - ECPv6.15.20//NONSGML v1.0//EN
CALSCALE:GREGORIAN
METHOD:PUBLISH
X-WR-CALNAME:frcspb.be
X-ORIGINAL-URL:https://frcspb.be
X-WR-CALDESC:Évènements pour frcspb.be
REFRESH-INTERVAL;VALUE=DURATION:PT1H
X-Robots-Tag:noindex
X-PUBLISHED-TTL:PT1H
BEGIN:VTIMEZONE
TZID:Europe/Brussels
BEGIN:DAYLIGHT
TZOFFSETFROM:+0100
TZOFFSETTO:+0200
TZNAME:CEST
DTSTART:20240331T010000
END:DAYLIGHT
BEGIN:STANDARD
TZOFFSETFROM:+0200
TZOFFSETTO:+0100
TZNAME:CET
DTSTART:20241027T010000
END:STANDARD
BEGIN:DAYLIGHT
TZOFFSETFROM:+0100
TZOFFSETTO:+0200
TZNAME:CEST
DTSTART:20250330T010000
END:DAYLIGHT
BEGIN:STANDARD
TZOFFSETFROM:+0200
TZOFFSETTO:+0100
TZNAME:CET
DTSTART:20251026T010000
END:STANDARD
BEGIN:DAYLIGHT
TZOFFSETFROM:+0100
TZOFFSETTO:+0200
TZNAME:CEST
DTSTART:20260329T010000
END:DAYLIGHT
BEGIN:STANDARD
TZOFFSETFROM:+0200
TZOFFSETTO:+0100
TZNAME:CET
DTSTART:20261025T010000
END:STANDARD
END:VTIMEZONE
BEGIN:VEVENT
DTSTART;TZID=Europe/Brussels:20251004T080000
DTEND;TZID=Europe/Brussels:20251005T170000
DTSTAMP:20260423T044119
CREATED:20250310T133721Z
LAST-MODIFIED:20250310T133721Z
UID:1192-1759564800-1759683600@frcspb.be
SUMMARY:FireFit Championships Europe – Gera\, Allemagne
DESCRIPTION:
URL:https://frcspb.be/agenda/firefit-championships-europe-gera-allemagne/
LOCATION:Gera\, Germany
END:VEVENT
BEGIN:VEVENT
DTSTART;TZID=Europe/Brussels:20251004T110000
DTEND;TZID=Europe/Brussels:20251005T180000
DTSTAMP:20260423T044119
CREATED:20251013T125605Z
LAST-MODIFIED:20251013T125605Z
UID:1669-1759575600-1759687200@frcspb.be
SUMMARY:Portes-ouvertes des pompiers de Binche
DESCRIPTION:
URL:https://frcspb.be/agenda/portes-ouvertes-des-pompiers-de-binche/
LOCATION:Binche\, rue de la Pépinière 57\, Binche\, Belgium
END:VEVENT
BEGIN:VEVENT
DTSTART;VALUE=DATE:20251005
DTEND;VALUE=DATE:20251006
DTSTAMP:20260423T044119
CREATED:20250310T133909Z
LAST-MODIFIED:20250310T133909Z
UID:1195-1759622400-1759708799@frcspb.be
SUMMARY:Zone de secours HEMECO: Portes-ouvertes des pompiers de Huy
DESCRIPTION:
URL:https://frcspb.be/agenda/zone-de-secours-hemeco-portes-ouvertes-des-pompiers-de-huy/
END:VEVENT
BEGIN:VEVENT
DTSTART;TZID=Europe/Brussels:20251005T100000
DTEND;TZID=Europe/Brussels:20251005T170000
DTSTAMP:20260423T044119
CREATED:20251013T130007Z
LAST-MODIFIED:20251013T130007Z
UID:1675-1759658400-1759683600@frcspb.be
SUMMARY:Portes-ouvertes des pompiers de Saint-Hubert
DESCRIPTION:
URL:https://frcspb.be/agenda/portes-ouvertes-des-pompiers-de-saint-hubert/
LOCATION:Saint-Hubert\, Caserne des pompiers\, Belgium
END:VEVENT
END:VCALENDAR