BEGIN:VCALENDAR
VERSION:2.0
PRODID:-//frcspb.be - ECPv6.15.20//NONSGML v1.0//EN
CALSCALE:GREGORIAN
METHOD:PUBLISH
X-ORIGINAL-URL:https://frcspb.be
X-WR-CALDESC:Évènements pour frcspb.be
REFRESH-INTERVAL;VALUE=DURATION:PT1H
X-Robots-Tag:noindex
X-PUBLISHED-TTL:PT1H
BEGIN:VTIMEZONE
TZID:Europe/Brussels
BEGIN:DAYLIGHT
TZOFFSETFROM:+0100
TZOFFSETTO:+0200
TZNAME:CEST
DTSTART:20240331T010000
END:DAYLIGHT
BEGIN:STANDARD
TZOFFSETFROM:+0200
TZOFFSETTO:+0100
TZNAME:CET
DTSTART:20241027T010000
END:STANDARD
BEGIN:DAYLIGHT
TZOFFSETFROM:+0100
TZOFFSETTO:+0200
TZNAME:CEST
DTSTART:20250330T010000
END:DAYLIGHT
BEGIN:STANDARD
TZOFFSETFROM:+0200
TZOFFSETTO:+0100
TZNAME:CET
DTSTART:20251026T010000
END:STANDARD
BEGIN:DAYLIGHT
TZOFFSETFROM:+0100
TZOFFSETTO:+0200
TZNAME:CEST
DTSTART:20260329T010000
END:DAYLIGHT
BEGIN:STANDARD
TZOFFSETFROM:+0200
TZOFFSETTO:+0100
TZNAME:CET
DTSTART:20261025T010000
END:STANDARD
END:VTIMEZONE
BEGIN:VEVENT
DTSTART;VALUE=DATE:20250906
DTEND;VALUE=DATE:20250908
DTSTAMP:20260423T063822
CREATED:20250310T131715Z
LAST-MODIFIED:20250310T132056Z
UID:1179-1757116800-1757289599@frcspb.be
SUMMARY:FireFit Championships Europe – Ostrava\, République tchèque
DESCRIPTION:
URL:https://frcspb.be/agenda/firefit-championships-europe-ostrava-republique-tcheque/
LOCATION:Ostrava\, Czech Republic
END:VEVENT
BEGIN:VEVENT
DTSTART;TZID=Europe/Brussels:20250906T210000
DTEND;TZID=Europe/Brussels:20250907T020000
DTSTAMP:20260423T063822
CREATED:20250807T140231Z
LAST-MODIFIED:20250807T140231Z
UID:1511-1757192400-1757210400@frcspb.be
SUMMARY:Amicale des pompiers de Plombières – Montzen: Beachparty
DESCRIPTION:Venez vous amuser lors de la deuxième édition de la Beachparty organisée par l’amicale des pompiers de Plombières.
URL:https://frcspb.be/agenda/amicale-des-pompiers-de-plombieres-montzen-beachparty/
LOCATION:Montzen\, rue de la Poste 46\, Montzen\, Belgium
END:VEVENT
BEGIN:VEVENT
DTSTART;TZID=Europe/Brussels:20250907T090000
DTEND;TZID=Europe/Brussels:20250907T180000
DTSTAMP:20260423T063822
CREATED:20250807T140526Z
LAST-MODIFIED:20250807T140526Z
UID:1513-1757235600-1757268000@frcspb.be
SUMMARY:Zone de secours Dinaphi: Portes-ouvertes des pompiers de Dinant
DESCRIPTION:Venez vivre une journée exceptionnelle lors des portes-ouvertes organisées au poste de secours de Dinant.
URL:https://frcspb.be/agenda/zone-de-secours-dinaphi-portes-ouvertes-des-pompiers-de-dinant/
LOCATION:Dinant\, Place face au Centre Culturel\, Belgium
END:VEVENT
END:VCALENDAR