BEGIN:VCALENDAR
VERSION:2.0
PRODID:-//frcspb.be - ECPv6.15.20//NONSGML v1.0//EN
CALSCALE:GREGORIAN
METHOD:PUBLISH
X-ORIGINAL-URL:https://frcspb.be
X-WR-CALDESC:Évènements pour frcspb.be
REFRESH-INTERVAL;VALUE=DURATION:PT1H
X-Robots-Tag:noindex
X-PUBLISHED-TTL:PT1H
BEGIN:VTIMEZONE
TZID:Europe/Brussels
BEGIN:DAYLIGHT
TZOFFSETFROM:+0100
TZOFFSETTO:+0200
TZNAME:CEST
DTSTART:20240331T010000
END:DAYLIGHT
BEGIN:STANDARD
TZOFFSETFROM:+0200
TZOFFSETTO:+0100
TZNAME:CET
DTSTART:20241027T010000
END:STANDARD
BEGIN:DAYLIGHT
TZOFFSETFROM:+0100
TZOFFSETTO:+0200
TZNAME:CEST
DTSTART:20250330T010000
END:DAYLIGHT
BEGIN:STANDARD
TZOFFSETFROM:+0200
TZOFFSETTO:+0100
TZNAME:CET
DTSTART:20251026T010000
END:STANDARD
BEGIN:DAYLIGHT
TZOFFSETFROM:+0100
TZOFFSETTO:+0200
TZNAME:CEST
DTSTART:20260329T010000
END:DAYLIGHT
BEGIN:STANDARD
TZOFFSETFROM:+0200
TZOFFSETTO:+0100
TZNAME:CET
DTSTART:20261025T010000
END:STANDARD
END:VTIMEZONE
BEGIN:VEVENT
DTSTART;VALUE=DATE:20250627
DTEND;VALUE=DATE:20250707
DTSTAMP:20260423T113419
CREATED:20250310T124646Z
LAST-MODIFIED:20250310T124646Z
UID:1165-1750982400-1751846399@frcspb.be
SUMMARY:World Police & Fire Games
DESCRIPTION:Jeux mondiaux des policiers et des pompiers de Birmingham 2025. \nVous aimez le sport\, la compétition et les moments inoubliables ? Alors\, c’est le moment de briller ! \nAu programme : Des épreuves de style olympique\, des milliers d’athlètes venus du monde entier\, et une ambiance incroyable ! \nQue vous soyez là pour la victoire ou juste pour le plaisir\, une seule règle : donner le meilleur de vous-même et passer un moment exceptionnel !
URL:https://frcspb.be/agenda/world-police-fire-games/
LOCATION:Alabama\, United States
END:VEVENT
BEGIN:VEVENT
DTSTART;VALUE=DATE:20250628
DTEND;VALUE=DATE:20250629
DTSTAMP:20260423T113419
CREATED:20250310T125409Z
LAST-MODIFIED:20250310T125409Z
UID:1168-1751068800-1751155199@frcspb.be
SUMMARY:Arel Firefighter Challenge
DESCRIPTION:L’Arel Firefighter Challenge c’est:\n\n\n\nUn parcours d’obstacle où les pompiers s’affrontent dans des épreuves physiques et techniques qui mettent en valeur leur courage et leur savoir-faire.\n\n\n\nMais aussi:\n\n\n Une exposition de véhicules d’intervention\n Des démonstrations en direct\n Des animations pour toute la famille\n\n\n\n\n\n Toutes les infos ici: https://www.facebook.com/profile.php?id=61569012934852
URL:https://frcspb.be/agenda/arel-firefighter-challenge/
LOCATION:Arlon\, Belgium
END:VEVENT
END:VCALENDAR