BEGIN:VCALENDAR
VERSION:2.0
PRODID:-//frcspb.be - ECPv6.15.20//NONSGML v1.0//EN
CALSCALE:GREGORIAN
METHOD:PUBLISH
X-ORIGINAL-URL:https://frcspb.be
X-WR-CALDESC:Évènements pour frcspb.be
REFRESH-INTERVAL;VALUE=DURATION:PT1H
X-Robots-Tag:noindex
X-PUBLISHED-TTL:PT1H
BEGIN:VTIMEZONE
TZID:Europe/Brussels
BEGIN:DAYLIGHT
TZOFFSETFROM:+0100
TZOFFSETTO:+0200
TZNAME:CEST
DTSTART:20240331T010000
END:DAYLIGHT
BEGIN:STANDARD
TZOFFSETFROM:+0200
TZOFFSETTO:+0100
TZNAME:CET
DTSTART:20241027T010000
END:STANDARD
BEGIN:DAYLIGHT
TZOFFSETFROM:+0100
TZOFFSETTO:+0200
TZNAME:CEST
DTSTART:20250330T010000
END:DAYLIGHT
BEGIN:STANDARD
TZOFFSETFROM:+0200
TZOFFSETTO:+0100
TZNAME:CET
DTSTART:20251026T010000
END:STANDARD
BEGIN:DAYLIGHT
TZOFFSETFROM:+0100
TZOFFSETTO:+0200
TZNAME:CEST
DTSTART:20260329T010000
END:DAYLIGHT
BEGIN:STANDARD
TZOFFSETFROM:+0200
TZOFFSETTO:+0100
TZNAME:CET
DTSTART:20261025T010000
END:STANDARD
END:VTIMEZONE
BEGIN:VEVENT
DTSTART;VALUE=DATE:20250621
DTEND;VALUE=DATE:20250622
DTSTAMP:20260423T113310
CREATED:20250310T124433Z
LAST-MODIFIED:20250310T124433Z
UID:1162-1750464000-1750550399@frcspb.be
SUMMARY:Championnat de Belgique ¼ Triathlon Trios + ¼ Triathlon Individuel - Bruges
DESCRIPTION:Préparez-vous à relever le défi lors de cet événement sportif incontournable\, qui se tiendra dans le cadre magnifique du centre de Bruges le samedi 21 juin 2025. \nFormez une équipe de 3 compétiteurs : \n\n1 nageur : 1 km\n1 cycliste : 45 km\n1 coureur : 10 km\n\nInformations et inscriptions: https://triatlonbrugge.be/ \nCet événement est organisé par le poste de secours de Bruges (Zone 1) et Triatlon Brugge avec le soutien des\nPompiers de Flandre occidentale\, la Ville de Bruges et le cercle d’Amis de Bruges.
URL:https://frcspb.be/agenda/championnat-de-belgique-%c2%bc-triathlon-trios-%c2%bc-triathlon-individuel-bruges/
LOCATION:Bruges
END:VEVENT
END:VCALENDAR