BEGIN:VCALENDAR
VERSION:2.0
PRODID:-//frcspb.be - ECPv6.15.20//NONSGML v1.0//EN
CALSCALE:GREGORIAN
METHOD:PUBLISH
X-ORIGINAL-URL:https://frcspb.be
X-WR-CALDESC:Évènements pour frcspb.be
REFRESH-INTERVAL;VALUE=DURATION:PT1H
X-Robots-Tag:noindex
X-PUBLISHED-TTL:PT1H
BEGIN:VTIMEZONE
TZID:Europe/Brussels
BEGIN:DAYLIGHT
TZOFFSETFROM:+0100
TZOFFSETTO:+0200
TZNAME:CEST
DTSTART:20240331T010000
END:DAYLIGHT
BEGIN:STANDARD
TZOFFSETFROM:+0200
TZOFFSETTO:+0100
TZNAME:CET
DTSTART:20241027T010000
END:STANDARD
BEGIN:DAYLIGHT
TZOFFSETFROM:+0100
TZOFFSETTO:+0200
TZNAME:CEST
DTSTART:20250330T010000
END:DAYLIGHT
BEGIN:STANDARD
TZOFFSETFROM:+0200
TZOFFSETTO:+0100
TZNAME:CET
DTSTART:20251026T010000
END:STANDARD
BEGIN:DAYLIGHT
TZOFFSETFROM:+0100
TZOFFSETTO:+0200
TZNAME:CEST
DTSTART:20260329T010000
END:DAYLIGHT
BEGIN:STANDARD
TZOFFSETFROM:+0200
TZOFFSETTO:+0100
TZNAME:CET
DTSTART:20261025T010000
END:STANDARD
END:VTIMEZONE
BEGIN:VEVENT
DTSTART;VALUE=DATE:20250608
DTEND;VALUE=DATE:20250609
DTSTAMP:20260423T113354
CREATED:20250305T152650Z
LAST-MODIFIED:20250305T152650Z
UID:1158-1749340800-1749427199@frcspb.be
SUMMARY:Zone de secours NAGE: Portes ouvertes et soirée des pompiers d'Andenne
DESCRIPTION:
URL:https://frcspb.be/agenda/zone-de-secours-nage-portes-ouvertes-et-soiree-des-pompiers-dandenne/
END:VEVENT
BEGIN:VEVENT
DTSTART;VALUE=DATE:20250608
DTEND;VALUE=DATE:20250609
DTSTAMP:20260423T113354
CREATED:20250506T122431Z
LAST-MODIFIED:20250506T122431Z
UID:1411-1749340800-1749427199@frcspb.be
SUMMARY:Zone de secours Wapi: balade moto de l'amicale des pompiers de Blaton
DESCRIPTION:Préparez vos casques et rejoignez l’Amicale des Pompiers de Blaton pour la deuxième édition de leur balade moto ! Une journée placée sous le signe de la convivialité et de la passion des deux-roues.
URL:https://frcspb.be/agenda/zone-de-secours-wapi-balade-moto-de-lamicale-des-pompiers-de-blaton/
LOCATION:Blaton\, avenue de l'Europe 1\, Blaton\, Belgium
END:VEVENT
BEGIN:VEVENT
DTSTART;TZID=Europe/Brussels:20250608T060000
DTEND;TZID=Europe/Brussels:20250608T160000
DTSTAMP:20260423T113354
CREATED:20250305T152833Z
LAST-MODIFIED:20250305T152833Z
UID:1160-1749362400-1749398400@frcspb.be
SUMMARY:17ème Brocante des pompiers de Tubize
DESCRIPTION:Plus de 400 exposants – Pas de professionnels \nPetite restauration \nEmplacement 2x3m 7 € \nInfos et réservation: 0494/65.36.63 (pas de sms)
URL:https://frcspb.be/agenda/17eme-brocante-des-pompiers-de-tubize/
END:VEVENT
END:VCALENDAR