BEGIN:VCALENDAR
VERSION:2.0
PRODID:-//frcspb.be - ECPv6.15.20//NONSGML v1.0//EN
CALSCALE:GREGORIAN
METHOD:PUBLISH
X-ORIGINAL-URL:https://frcspb.be
X-WR-CALDESC:Évènements pour frcspb.be
REFRESH-INTERVAL;VALUE=DURATION:PT1H
X-Robots-Tag:noindex
X-PUBLISHED-TTL:PT1H
BEGIN:VTIMEZONE
TZID:UTC
BEGIN:STANDARD
TZOFFSETFROM:+0000
TZOFFSETTO:+0000
TZNAME:UTC
DTSTART:20240101T000000
END:STANDARD
END:VTIMEZONE
BEGIN:VEVENT
DTSTART;VALUE=DATE:20250524
DTEND;VALUE=DATE:20250526
DTSTAMP:20260423T125451
CREATED:20250124T132307Z
LAST-MODIFIED:20250314T150105Z
UID:499-1748044800-1748217599@frcspb.be
SUMMARY:Zone de secours Val de Sambre: Portes-ouvertes
DESCRIPTION:L’Amicale des pompiers de la zone de secours Val de Sambre vous propose une journée conviviale pleine de découvertes.
URL:https://frcspb.be/agenda/zone-de-secours-val-de-sambre-portes-ouvertes/
LOCATION:Sambreville\, rue de la vacherie 78\, Sambreville\, Belgium
END:VEVENT
BEGIN:VEVENT
DTSTART;TZID=UTC:20250524T210000
DTEND;TZID=UTC:20250525T150000
DTSTAMP:20260423T125451
CREATED:20250124T133147Z
LAST-MODIFIED:20250124T133330Z
UID:504-1748120400-1748185200@frcspb.be
SUMMARY:Zone de secours Hesbaye: Bal des pompiers de Hannut
DESCRIPTION:Les pompiers de Hannut vont mettre le feu lors du bal des pompiers! \nDe nombreuses animations vous attendent lors de cette soirée qui s’annonce très festive! \n🎟️ INFOS PRATIQUES 🎟️ \n𝐕𝐈𝐏 𝐀𝐂𝐂𝐄𝐒𝐒 :• Accès à la zone VIP (attention\, pas de table réservée !)• Bar premium dédié à la zone VIP (payant)\n𝐓𝐀𝐁𝐋𝐄 𝐕𝐈𝐏 :• Accès à la zone VIP (table réservée pour 6 personnes)• 1 bouteille de bulles inclue• Bar premium dédié à la zone VIP (payant)\n\nRéservation table VIP: apsrih@gmail.com – 0478/040.806\nAttention la réservation sera effective après réception du payement.\n\n👉Plus d’infos ici : https://www.facebook.com/events/569247022616971/
URL:https://frcspb.be/agenda/zone-de-secours-hesbaye-bal-des-pompiers-de-hannut/
LOCATION:Hannut\, Rue Joseph Wauters 65\, Hannut\, 4280\, Belgium
END:VEVENT
END:VCALENDAR