BEGIN:VCALENDAR
VERSION:2.0
PRODID:-//frcspb.be - ECPv6.15.20//NONSGML v1.0//EN
CALSCALE:GREGORIAN
METHOD:PUBLISH
X-WR-CALNAME:frcspb.be
X-ORIGINAL-URL:https://frcspb.be
X-WR-CALDESC:Évènements pour frcspb.be
REFRESH-INTERVAL;VALUE=DURATION:PT1H
X-Robots-Tag:noindex
X-PUBLISHED-TTL:PT1H
BEGIN:VTIMEZONE
TZID:Europe/Brussels
BEGIN:DAYLIGHT
TZOFFSETFROM:+0100
TZOFFSETTO:+0200
TZNAME:CEST
DTSTART:20240331T010000
END:DAYLIGHT
BEGIN:STANDARD
TZOFFSETFROM:+0200
TZOFFSETTO:+0100
TZNAME:CET
DTSTART:20241027T010000
END:STANDARD
BEGIN:DAYLIGHT
TZOFFSETFROM:+0100
TZOFFSETTO:+0200
TZNAME:CEST
DTSTART:20250330T010000
END:DAYLIGHT
BEGIN:STANDARD
TZOFFSETFROM:+0200
TZOFFSETTO:+0100
TZNAME:CET
DTSTART:20251026T010000
END:STANDARD
BEGIN:DAYLIGHT
TZOFFSETFROM:+0100
TZOFFSETTO:+0200
TZNAME:CEST
DTSTART:20260329T010000
END:DAYLIGHT
BEGIN:STANDARD
TZOFFSETFROM:+0200
TZOFFSETTO:+0100
TZNAME:CET
DTSTART:20261025T010000
END:STANDARD
END:VTIMEZONE
BEGIN:VEVENT
DTSTART;TZID=Europe/Brussels:20250523T180000
DTEND;TZID=Europe/Brussels:20250523T180000
DTSTAMP:20260423T125247
CREATED:20250506T123734Z
LAST-MODIFIED:20250506T123734Z
UID:1418-1748023200-1748023200@frcspb.be
SUMMARY:Zone de secours Dinaphi: blind test de l'amicale des pompiers de Dinant
DESCRIPTION:Vous pensez être imbattable sur les hits des années 80\, 90 ou les derniers tubes ?\nAlors rejoignez l’ Amicale des pompiers de Dinant pour une soirée Blind Test de folie!
URL:https://frcspb.be/agenda/zone-de-secours-dinaphi-blind-test-de-lamicale-des-pompiers-de-dinant/
LOCATION:Dinant\, Place face au Centre Culturel\, Belgium
END:VEVENT
END:VCALENDAR