BEGIN:VCALENDAR
VERSION:2.0
PRODID:-//frcspb.be - ECPv6.15.20//NONSGML v1.0//EN
CALSCALE:GREGORIAN
METHOD:PUBLISH
X-ORIGINAL-URL:https://frcspb.be
X-WR-CALDESC:Évènements pour frcspb.be
REFRESH-INTERVAL;VALUE=DURATION:PT1H
X-Robots-Tag:noindex
X-PUBLISHED-TTL:PT1H
BEGIN:VTIMEZONE
TZID:Europe/Brussels
BEGIN:DAYLIGHT
TZOFFSETFROM:+0100
TZOFFSETTO:+0200
TZNAME:CEST
DTSTART:20240331T010000
END:DAYLIGHT
BEGIN:STANDARD
TZOFFSETFROM:+0200
TZOFFSETTO:+0100
TZNAME:CET
DTSTART:20241027T010000
END:STANDARD
BEGIN:DAYLIGHT
TZOFFSETFROM:+0100
TZOFFSETTO:+0200
TZNAME:CEST
DTSTART:20250330T010000
END:DAYLIGHT
BEGIN:STANDARD
TZOFFSETFROM:+0200
TZOFFSETTO:+0100
TZNAME:CET
DTSTART:20251026T010000
END:STANDARD
BEGIN:DAYLIGHT
TZOFFSETFROM:+0100
TZOFFSETTO:+0200
TZNAME:CEST
DTSTART:20260329T010000
END:DAYLIGHT
BEGIN:STANDARD
TZOFFSETFROM:+0200
TZOFFSETTO:+0100
TZNAME:CET
DTSTART:20261025T010000
END:STANDARD
END:VTIMEZONE
BEGIN:VEVENT
DTSTART;TZID=Europe/Brussels:20250521T080000
DTEND;TZID=Europe/Brussels:20250521T123000
DTSTAMP:20260423T125408
CREATED:20250506T123438Z
LAST-MODIFIED:20250506T123903Z
UID:1415-1747814400-1747830600@frcspb.be
SUMMARY:Colloque – Sécurité des intervenants D2 dans le domaine ferroviaire
DESCRIPTION:La D1 IILE\, Infrabel et l’EPAMU Liège s’associent pour vous proposer un colloque consacré à la sécurité des intervenants D2 sur le domaine ferroviaire. Cette matinée de formation vise à fournir les connaissances nécessaires pour intervenir efficacement dans un environnement ferroviaire.
URL:https://frcspb.be/agenda/colloque-securite-des-intervenants-d2-dans-le-domaine-ferroviaire/
LOCATION:Jemeppe\, Avenue Montesquieu 6\, Jemeppe\, 4101\, Belgium
END:VEVENT
END:VCALENDAR