BEGIN:VCALENDAR
VERSION:2.0
PRODID:-//frcspb.be - ECPv6.15.20//NONSGML v1.0//EN
CALSCALE:GREGORIAN
METHOD:PUBLISH
X-WR-CALNAME:frcspb.be
X-ORIGINAL-URL:https://frcspb.be
X-WR-CALDESC:Évènements pour frcspb.be
REFRESH-INTERVAL;VALUE=DURATION:PT1H
X-Robots-Tag:noindex
X-PUBLISHED-TTL:PT1H
BEGIN:VTIMEZONE
TZID:UTC
BEGIN:STANDARD
TZOFFSETFROM:+0000
TZOFFSETTO:+0000
TZNAME:UTC
DTSTART:20240101T000000
END:STANDARD
END:VTIMEZONE
BEGIN:VEVENT
DTSTART;VALUE=DATE:20250323
DTEND;VALUE=DATE:20250324
DTSTAMP:20260423T160729
CREATED:20250124T125255Z
LAST-MODIFIED:20250124T132833Z
UID:484-1742688000-1742774399@frcspb.be
SUMMARY:Firefighter Mountain Trail 2025
DESCRIPTION:Relèverez-vous le défi du Firefighter Mountain Trail 2025 ?\nLes pompiers de Beringen\, Heusden-Zolder et Tessenderlo (Hulpverleningszone Zuid-West Limburg) organisent leur 9ème édition du Firefighter Mountain Trail. \nUn parcours unique sur les terrils miniers de Beringen. \nParcours :\n Course : 6 km\, 11 km\, 19 km\, 27 km\n Marche : 6 km\, 11 km\, 19 km\, 27 km\n\nCette année encore\, les zones de secours peuvent participer au challenge! Une belle opportunité de se retrouver entre collègues\, lors d’une épreuve sportive conviviale !
URL:https://frcspb.be/agenda/firefighter-mountain-trail-2025/
LOCATION:Beringen\, Het Mijnstadion\, Stadionlaan 1\, Beringen\, 3580\, Belgium
END:VEVENT
END:VCALENDAR